BEGIN:VCALENDAR
PRODID://WordPress//Event-Post-V5.9.2//EN
VERSION:2.0
BEGIN:VTIMEZONE
TZID:America/Argentina/Buenos_Aires
BEGIN:DAYLIGHT
TZOFFSETFROM:+0100
TZOFFSETTO:-0300
DTSTART:19700329T020000
RRULE:FREQ=YEARLY;BYDAY=-1SU;BYMONTH=3
END:DAYLIGHT
BEGIN:STANDARD
TZOFFSETFROM:-0300
TZOFFSETTO:+0100
TZNAME:CET
DTSTART:19701025T030000
RRULE:FREQ=YEARLY;BYDAY=-1SU;BYMONTH=10
END:STANDARD
END:VTIMEZONE
BEGIN:VEVENT
SUMMARY:Gualeguaychú será sede del congreso nacional de Fundaciones y Entes sanitarios
UID:https://www.agroeventos.com.ar/gualeguaychu-sera-sede-del-congreso-nacional-de-fundaciones-y-entes-sanitarios/
LOCATION:
DTSTAMP:20260603
DTSTART;TZID=America/Argentina/Buenos_Aires:20260603
DTEND;TZID=America/Argentina/Buenos_Aires:20260604
DESCRIPTION:Bajo el lema "Sanidad en acción: el pasaporte de la ganadería argentina",
el evento se desarrollará los días 3 y 4 de junio de 2026 en el Auditorio
de la Sociedad Rural Gualeguaychú, ubicado en Urquiza al oeste y ruta
nacional 14, en la provincia de Entre Ríos. 
Con una agenda centrada en los principales desafíos sanitarios de la
producción animal, Gualeguaychú será sede de un nuevo encuentro nacional
que reunirá a referentes de todo el país. Se trata del 15° Congreso
Nacional de Fundaciones y Entes Sanitarios, una cita que pondrá el foco en
la sanidad como eje estratégico para el desarrollo ganadero argentino.

Bajo el lema "Sanidad en acción: el pasaporte de la ganadería argentina",
el evento se desarrollará los días 3 y 4 de junio de 2026 en el Auditorio
de la Sociedad Rural Gualeguaychú, ubicado en Urquiza al oeste y ruta
nacional 14, en la provincia de Entre Ríos. La organización estará a
cargo de Confederaciones Rurales Argentinas (CRA), la Federación de
Asociaciones Rurales de Entre Ríos (FARER) y la Sociedad Rural
Gualeguaychú (SRG).

El Congreso convocará a dirigentes rurales, técnicos, profesionales,
funcionarios de distintos niveles del Estado, representantes del ámbito
académico, empresas y organismos vinculados al sistema sanitario. La
propuesta apunta a generar un espacio de intercambio y actualización sobre
las problemáticas que impactan en la sanidad animal y, en consecuencia, en
la competitividad del sector.

Durante las jornadas se desarrollarán exposiciones técnicas, mesas de
debate, análisis de casos y presentaciones de experiencias territoriales.
Entre los ejes previstos se destacan enfermedades como aftosa, la
brucelosis y la garrapata, los procesos de certificación vinculados a la
sostenibilidad, las exigencias de los mercados internacionales, la
incorporación de inteligencia artificial en la gestión sanitaria, los
protocolos vigentes y el rol de las nuevas generaciones en el sistema
productivo.

En este marco, y considerando el peso estratégico de Entre Ríos como una
de las principales provincias avícolas del país, el programa incluirá un
panel específico dedicado a la sanidad avícola.

Este espacio abordará los desafíos y oportunidades del sector, con foco
en la prevención, el control sanitario y la competitividad de una
actividad clave para la economía regional. Además, el encuentro contará
con la participación de autoridades nacionales, provinciales y locales,
reforzando su carácter institucional y federal.

En ese sentido, el Congreso busca consolidarse como un ámbito de
construcción colectiva donde se delineen estrategias que fortalezcan el
modelo sanitario argentino, entendiendo a la sanidad animal como un pilar
clave para el crecimiento y la proyección de la ganadería.

La actividad será arancelada y requerirá inscripción previa.
Precisamente para participar hay que ingresar al siguiente link y completar
el formulario: https://forms.gle/pkdBFU5dvEKcuaez9
END:VEVENT
END:VCALENDAR