BEGIN:VCALENDAR
PRODID://WordPress//Event-Post-V5.9.2//EN
VERSION:2.0
BEGIN:VTIMEZONE
TZID:America/Argentina/Buenos_Aires
BEGIN:DAYLIGHT
TZOFFSETFROM:+0100
TZOFFSETTO:-0300
DTSTART:19700329T020000
RRULE:FREQ=YEARLY;BYDAY=-1SU;BYMONTH=3
END:DAYLIGHT
BEGIN:STANDARD
TZOFFSETFROM:-0300
TZOFFSETTO:+0100
TZNAME:CET
DTSTART:19701025T030000
RRULE:FREQ=YEARLY;BYDAY=-1SU;BYMONTH=10
END:STANDARD
END:VTIMEZONE
BEGIN:VEVENT
SUMMARY:¿Qué pasaría si se eliminaran las retenciones?
UID:https://www.agroeventos.com.ar/que-pasaria-si-se-eliminaran-las-retenciones/
LOCATION:
DTSTAMP:20260424
DTSTART;TZID=America/Argentina/Buenos_Aires:20260424
DTEND;TZID=America/Argentina/Buenos_Aires:20260424
DESCRIPTION:Te invitamos a la presentación de las proyecciones de producción,
comercio e impacto fiscal al 2036 en base a AGMEMOD Argentina. Analizaremos
el impacto de una eliminación de retenciones:

🌱 ¿Cuánto se podría expandir la superficie, la producción y las
exportaciones?
💵 ¿Cuánto tarda el Estado en recuperar lo que deja de cobrar por DEX?
🏛️ ¿Cómo se distribuye ese impacto entre Nación y provincias?

Te esperamos:
📅 Viernes 24 de abril | 🕙 11:00 h | 📍BCR - Rosario
Confirmá tu asistencia inscribiéndote en el siguiente link:
👉🏻 bit.ly/4dSx3mo
END:VEVENT
END:VCALENDAR